BEGIN:VCALENDAR
VERSION:2.0
PRODID:https://fedsoc.org/events/criminal-law-procedure-litigating-the-high
 -profile-case
BEGIN:VEVENT
UID:611cbc729a23b
DTSTART:20011116T213042Z
SEQUENCE:0
TRANSP:OPAQUE
DTEND:20011116T230016Z
LOCATION:1127 Connecticut Avenue NW Washington DC 20036
SUMMARY:Criminal Law & Procedure: Litigating the High Profile Case
CLASS:PUBLIC
X-ALT-DESC;FMTTYPE=text/html:Event: Criminal Law & Procedure: Litigating th
 e High Profile Case\n\n Location: 1127 Connecticut Avenue NW Washington DC
  20036\n\n
DTSTAMP:20210818T035322Z
END:VEVENT
END:VCALENDAR