BEGIN:VCALENDAR
VERSION:2.0
PRODID:https://fedsoc.org/events/religious-liberties-moment-of-silence-deba
 te
BEGIN:VEVENT
UID:611cbc666813b
DTSTART:20011116T213007Z
SEQUENCE:0
TRANSP:OPAQUE
DTEND:20011116T230007Z
LOCATION:1127 Connecticut Avenue NW Washington DC 20036
SUMMARY:Religious Liberties: Moment of Silence Debate
CLASS:PUBLIC
X-ALT-DESC;FMTTYPE=text/html:Event: Religious Liberties: Moment of Silence 
 Debate\n\n Location: 1127 Connecticut Avenue NW Washington DC 20036\n\n
DTSTAMP:20210818T035310Z
END:VEVENT
END:VCALENDAR