BEGIN:VCALENDAR
VERSION:2.0
PRODID:https://fedsoc.org/events/showcase-panel-iii-judicial-decisionmaking
 -judicial-enforcement-of-the-boundaries-of-government-power
BEGIN:VEVENT
UID:611cbc56353ba
DTSTART:20011116T194546Z
SEQUENCE:0
TRANSP:OPAQUE
DTEND:20011116T211546Z
LOCATION:1127 Connecticut Avenue NW Washington DC 20036
SUMMARY:Showcase Panel III: Judicial Decisionmaking: Judicial Enforcement o
 f the Boundaries of Government Power
CLASS:PUBLIC
X-ALT-DESC;FMTTYPE=text/html:Event: Showcase Panel III: Judicial Decisionma
 king: Judicial Enforcement of the Boundaries of Government Power\n\n Locat
 ion: 1127 Connecticut Avenue NW Washington DC 20036\n\n
DTSTAMP:20210818T035254Z
END:VEVENT
END:VCALENDAR