BEGIN:VCALENDAR
VERSION:2.0
PRODID:https://fedsoc.org/events/barbara-k-olson-memorial-lecture-1
BEGIN:VEVENT
UID:611cbc4d7c3dd
DTSTART:20011116T184518Z
SEQUENCE:0
TRANSP:OPAQUE
DTEND:20011116T193018Z
LOCATION:1127 Connecticut Avenue NW Washington DC 20036
SUMMARY:1st Annual Barbara K. Olson Memorial Lecture
CLASS:PUBLIC
X-ALT-DESC;FMTTYPE=text/html:Event: 1st Annual Barbara K. Olson Memorial Le
 cture\n\n Location: 1127 Connecticut Avenue NW Washington DC 20036\n\n
DTSTAMP:20210818T035245Z
END:VEVENT
END:VCALENDAR