BEGIN:VCALENDAR
VERSION:2.0
PRODID:https://fedsoc.org/events/showcase-panel-ii-judicial-decisionmaking-
 the-case-of-judicial-oversight-of-the-political-process
BEGIN:VEVENT
UID:611cbc2ddc714
DTSTART:20011116T150010Z
SEQUENCE:0
TRANSP:OPAQUE
DTEND:20011116T170010Z
LOCATION:1127 Connecticut Avenue NW Washington DC 20036
SUMMARY:Showcase Panel II: Judicial Decisionmaking: The Case of Judicial Ov
 ersight of the Political Process
CLASS:PUBLIC
X-ALT-DESC;FMTTYPE=text/html:Event: Showcase Panel II: Judicial Decisionmak
 ing: The Case of Judicial Oversight of the Political Process\n\n Location:
  1127 Connecticut Avenue NW Washington DC 20036\n\n
DTSTAMP:20210818T035213Z
END:VEVENT
END:VCALENDAR