BEGIN:VCALENDAR
VERSION:2.0
PRODID:https://fedsoc.org/events/fifteenth-annual-lawyers-banquet
BEGIN:VEVENT
UID:611cbc229a0c1
DTSTART:20011116T000007Z
SEQUENCE:0
TRANSP:OPAQUE
DTEND:20011116T030007Z
LOCATION:1127 Connecticut Avenue NW Washington DC 20036
SUMMARY:Fifteenth Annual Lawyers Banquet
CLASS:PUBLIC
X-ALT-DESC;FMTTYPE=text/html:Event: Fifteenth Annual Lawyers Banquet\n\n Lo
 cation: 1127 Connecticut Avenue NW Washington DC 20036\n\n
DTSTAMP:20210818T035202Z
END:VEVENT
END:VCALENDAR