BEGIN:VCALENDAR
VERSION:2.0
PRODID:https://fedsoc.org/events/labor-employment-labor-law-for-the-21st-ce
 ntury
BEGIN:VEVENT
UID:611cbbda9586d
DTSTART:20011115T201537Z
SEQUENCE:0
TRANSP:OPAQUE
DTEND:20011115T214537Z
LOCATION:1127 Connecticut Avenue NW Washington DC 20036
SUMMARY:Labor & Employment: Labor Law for the 21st Century
CLASS:PUBLIC
X-ALT-DESC;FMTTYPE=text/html:Event: Labor & Employment: Labor Law for the 2
 1st Century\n\n Location: 1127 Connecticut Avenue NW Washington DC 20036\n
 \n
DTSTAMP:20210818T035050Z
END:VEVENT
END:VCALENDAR