BEGIN:VCALENDAR
VERSION:2.0
PRODID:https://fedsoc.org/events/financial-services-e-commerce-is-federalis
 m-consistent-with-nationwide-markets-and-globalization-the-case-of-the-ins
 urance-industry
BEGIN:VEVENT
UID:611cbc0b99988
DTSTART:20011115T201557Z
SEQUENCE:0
TRANSP:OPAQUE
DTEND:20011115T214557Z
LOCATION:1127 Connecticut Avenue NW Washington DC 20036
SUMMARY:Financial Services & E-Commerce: Is Federalism Consistent with Nati
 onwide Markets and Globalization? The Case of the Insurance Industry
CLASS:PUBLIC
X-ALT-DESC;FMTTYPE=text/html:Event: Financial Services & E-Commerce: Is Fed
 eralism Consistent with Nationwide Markets and Globalization? The Case of 
 the Insurance Industry\n\n Location: 1127 Connecticut Avenue NW Washington
  DC 20036\n\n
DTSTAMP:20210818T035139Z
END:VEVENT
END:VCALENDAR