BEGIN:VCALENDAR
VERSION:2.0
PRODID:https://fedsoc.org/events/professional-responsibility-when-free-spee
 ch-and-ethical-standards-collide
BEGIN:VEVENT
UID:611cbb960afe0
DTSTART:20011115T183013Z
SEQUENCE:0
TRANSP:OPAQUE
DTEND:20011115T200013Z
LOCATION:1127 Connecticut Avenue NW Washington DC 20036
SUMMARY:Professional Responsibility: When Free Speech and Ethical Standards
  Collide
CLASS:PUBLIC
X-ALT-DESC;FMTTYPE=text/html:Event: Professional Responsibility: When Free 
 Speech and Ethical Standards Collide\n\n Location: 1127 Connecticut Avenue
  NW Washington DC 20036\n\n
DTSTAMP:20210818T034942Z
END:VEVENT
END:VCALENDAR