BEGIN:VCALENDAR
VERSION:2.0
PRODID:https://fedsoc.org/events/intellectual-property-intellectual-propert
 y-rights-advancing-or-hindering-medical-breakthroughs
BEGIN:VEVENT
UID:611cbbbc50f9b
DTSTART:20011115T183024Z
SEQUENCE:0
TRANSP:OPAQUE
DTEND:20011115T200024Z
LOCATION:1127 Connecticut Avenue NW Washington DC 20036
SUMMARY:Intellectual Property: Intellectual Property Rights: Advancing or H
 indering Medical Breakthroughs?
CLASS:PUBLIC
X-ALT-DESC;FMTTYPE=text/html:Event: Intellectual Property: Intellectual Pro
 perty Rights: Advancing or Hindering Medical Breakthroughs?\n\n Location: 
 1127 Connecticut Avenue NW Washington DC 20036\n\n
DTSTAMP:20210818T035020Z
END:VEVENT
END:VCALENDAR