BEGIN:VCALENDAR
VERSION:2.0
PRODID:https://fedsoc.org/events/administrative-law-regulation-what-next-fo
 r-negotiated-rulemaking
BEGIN:VEVENT
UID:611cbbcccd3eb
DTSTART:20011115T183028Z
SEQUENCE:0
TRANSP:OPAQUE
DTEND:20011115T200028Z
LOCATION:1127 Connecticut Avenue NW Washington DC 20036
SUMMARY:Administrative Law & Regulation: What Next for Negotiated Rulemakin
 g?
CLASS:PUBLIC
X-ALT-DESC;FMTTYPE=text/html:Event: Administrative Law & Regulation: What N
 ext for Negotiated Rulemaking?\n\n Location: 1127 Connecticut Avenue NW Wa
 shington DC 20036\n\n
DTSTAMP:20210818T035036Z
END:VEVENT
END:VCALENDAR