BEGIN:VCALENDAR
VERSION:2.0
PRODID:https://fedsoc.org/events/practice-group-member-luncheons-brief-pres
 entations-regarding-the-war-against-terrorism
BEGIN:VEVENT
UID:611cbb7b40f39
DTSTART:20011115T164512Z
SEQUENCE:0
TRANSP:OPAQUE
DTEND:20011115T181506Z
LOCATION:1127 Connecticut Avenue NW Washington DC 20036
SUMMARY:Practice Group Member Luncheons: Brief Presentations Regarding the 
 War Against Terrorism
CLASS:PUBLIC
X-ALT-DESC;FMTTYPE=text/html:Event: Practice Group Member Luncheons: Brief 
 Presentations Regarding the War Against Terrorism\n\n Location: 1127 Conne
 cticut Avenue NW Washington DC 20036\n\n
DTSTAMP:20210818T034915Z
END:VEVENT
END:VCALENDAR