BEGIN:VCALENDAR
VERSION:2.0
PRODID:https://fedsoc.org/events/welcome-and-opening-address
BEGIN:VEVENT
UID:611cbb617e5a4
DTSTART:20011115T140040Z
SEQUENCE:0
TRANSP:OPAQUE
DTEND:20011115T143040Z
LOCATION:1127 Connecticut Avenue NW Washington DC 20036
SUMMARY:Welcome and Opening Address
CLASS:PUBLIC
X-ALT-DESC;FMTTYPE=text/html:Event: Welcome and Opening Address\n\n Locatio
 n: 1127 Connecticut Avenue NW Washington DC 20036\n\n
DTSTAMP:20210818T034849Z
END:VEVENT
END:VCALENDAR