BEGIN:VCALENDAR
VERSION:2.0
PRODID:https://fedsoc.org/events/recent-developments-from-the-epa
BEGIN:VEVENT
UID:63a816da4fcb9
DTSTART:20200201T171500Z
SEQUENCE:0
TRANSP:OPAQUE
DTEND:20200201T173000Z
LOCATION:1700 Epcot Resorts Blvd Lake Buena Vista FL 32830
SUMMARY:Recent Developments from the EPA
CLASS:PUBLIC
X-ALT-DESC;FMTTYPE=text/html:Event: Recent Developments from the EPA\n\n Lo
 cation: 1700 Epcot Resorts Blvd Lake Buena Vista FL 32830\n\n
DTSTAMP:20221225T042442Z
END:VEVENT
END:VCALENDAR