BEGIN:VCALENDAR
VERSION:2.0
PRODID:https://fedsoc.org/events/discussion-and-q-a-with-don-mcgahn
BEGIN:VEVENT
UID:63a81758db6d4
DTSTART:20200131T203004Z
SEQUENCE:0
TRANSP:OPAQUE
DTEND:20200131T211504Z
LOCATION:1700 Epcot Resorts Blvd Lake Buena Vista FL 32830
SUMMARY:Discussion and Q&A with Don McGahn
CLASS:PUBLIC
X-ALT-DESC;FMTTYPE=text/html:Event: Discussion and Q&A with Don McGahn\n\n 
 Location: 1700 Epcot Resorts Blvd Lake Buena Vista FL 32830\n\n
DTSTAMP:20221225T042648Z
END:VEVENT
END:VCALENDAR