BEGIN:VCALENDAR
VERSION:2.0
PRODID:https://fedsoc.org/events/closing-reception-16
BEGIN:VEVENT
UID:63a816b066c2c
DTSTART:20200126T003000Z
SEQUENCE:0
TRANSP:OPAQUE
DTEND:20200126T013000Z
LOCATION:40 Presidential Dr Simi Valley CA 93065
SUMMARY:Closing Reception
CLASS:PUBLIC
X-ALT-DESC;FMTTYPE=text/html:Event: Closing Reception\n\n Location: 40 Pres
 idential Dr Simi Valley CA 93065\n\n
DTSTAMP:20221225T042400Z
END:VEVENT
END:VCALENDAR