BEGIN:VCALENDAR
VERSION:2.0
PRODID:https://fedsoc.org/events/library-tour-optional
BEGIN:VEVENT
UID:63a8161d4f0da
DTSTART:20200125T233000Z
SEQUENCE:0
TRANSP:OPAQUE
DTEND:20200126T003000Z
LOCATION:40 Presidential Dr Simi Valley CA 93065
SUMMARY:Library Tour (Optional)
CLASS:PUBLIC
X-ALT-DESC;FMTTYPE=text/html:Event: Library Tour (Optional)\n\n Location: 4
 0 Presidential Dr Simi Valley CA 93065\n\n
DTSTAMP:20221225T042133Z
END:VEVENT
END:VCALENDAR