BEGIN:VCALENDAR
VERSION:2.0
PRODID:https://fedsoc.org/events/panel-3-the-anti-federalists-and-the-court
BEGIN:VEVENT
UID:63a8162d57d76
DTSTART:20200125T221500Z
SEQUENCE:0
TRANSP:OPAQUE
DTEND:20200125T233000Z
LOCATION:40 Presidential Dr Simi Valley CA 93065
SUMMARY:Panel 3: The Anti-Federalists and the Court
CLASS:PUBLIC
X-ALT-DESC;FMTTYPE=text/html:Event: Panel 3: The Anti-Federalists and the C
 ourt\n\n Location: 40 Presidential Dr Simi Valley CA 93065\n\n
DTSTAMP:20221225T042149Z
END:VEVENT
END:VCALENDAR