BEGIN:VCALENDAR
VERSION:2.0
PRODID:https://fedsoc.org/events/lunch-keynote-address
BEGIN:VEVENT
UID:63a8167057223
DTSTART:20200125T203000Z
SEQUENCE:0
TRANSP:OPAQUE
DTEND:20200125T220000Z
LOCATION:40 Presidential Dr Simi Valley CA 93065
SUMMARY:Keynote Address: The Anti-Federalists: Behind the Masks
CLASS:PUBLIC
X-ALT-DESC;FMTTYPE=text/html:Event: Keynote Address: The Anti-Federalists: 
 Behind the Masks\n\n Location: 40 Presidential Dr Simi Valley CA 93065\n\n
DTSTAMP:20221225T042256Z
END:VEVENT
END:VCALENDAR