BEGIN:VCALENDAR
VERSION:2.0
PRODID:https://fedsoc.org/events/panel-2-the-anti-federalists-and-theories-
 of-originalism
BEGIN:VEVENT
UID:63a81627e3115
DTSTART:20200125T191500Z
SEQUENCE:0
TRANSP:OPAQUE
DTEND:20200125T203000Z
LOCATION:40 Presidential Dr Simi Valley CA 93065
SUMMARY:Panel 2: The Anti-Federalists and Theories of Originalism
CLASS:PUBLIC
X-ALT-DESC;FMTTYPE=text/html:Event: Panel 2: The Anti-Federalists and Theor
 ies of Originalism\n\n Location: 40 Presidential Dr Simi Valley CA 93065\n
 \n
DTSTAMP:20221225T042143Z
END:VEVENT
END:VCALENDAR