BEGIN:VCALENDAR
VERSION:2.0
PRODID:https://fedsoc.org/events/panel-1-the-anti-federalists-at-the-foundi
 ng
BEGIN:VEVENT
UID:63a816327e4df
DTSTART:20200125T173000Z
SEQUENCE:0
TRANSP:OPAQUE
DTEND:20200125T190000Z
LOCATION:40 Presidential Dr Simi Valley CA 93065
SUMMARY:Panel 1: The Anti-Federalists at the Founding
CLASS:PUBLIC
X-ALT-DESC;FMTTYPE=text/html:Event: Panel 1: The Anti-Federalists at the Fo
 unding\n\n Location: 40 Presidential Dr Simi Valley CA 93065\n\n
DTSTAMP:20221225T042154Z
END:VEVENT
END:VCALENDAR