BEGIN:VCALENDAR
VERSION:2.0
PRODID:https://fedsoc.org/events/registration-9
BEGIN:VEVENT
UID:63a816ab50c98
DTSTART:20200125T163000Z
SEQUENCE:0
TRANSP:OPAQUE
DTEND:20200125T173000Z
LOCATION:40 Presidential Dr Simi Valley CA 93065
SUMMARY:Registration
CLASS:PUBLIC
X-ALT-DESC;FMTTYPE=text/html:Event: Registration\n\n Location: 40 President
 ial Dr Simi Valley CA 93065\n\n
DTSTAMP:20221225T042355Z
END:VEVENT
END:VCALENDAR