BEGIN:VCALENDAR
VERSION:2.0
PRODID:https://fedsoc.org/events/dessert-reception-and-fireworks-viewing-fe
 aturing-judges-from-the-united-states-circuit-court-of-appeals-for-the-ele
 venth-circuit
BEGIN:VEVENT
UID:63a816d51cb5e
DTSTART:20200202T003000Z
SEQUENCE:0
TRANSP:OPAQUE
DTEND:20200202T023000Z
LOCATION:200 Epcot Center Dr Orlando FL 32821
SUMMARY:Dessert Reception and Fireworks Viewing
CLASS:PUBLIC
X-ALT-DESC;FMTTYPE=text/html:Event: Dessert Reception and Fireworks Viewing
 \n\n Location: 200 Epcot Center Dr Orlando FL 32821\n\n
DTSTAMP:20221225T042437Z
END:VEVENT
END:VCALENDAR