BEGIN:VCALENDAR
VERSION:2.0
PRODID:https://fedsoc.org/events/break-2
BEGIN:VEVENT
UID:63a8180e7b95b
DTSTART:20200201T193000Z
SEQUENCE:0
TRANSP:OPAQUE
DTEND:20200202T003000Z
LOCATION:1700 Epcot Resorts Blvd Lake Buena Vista FL 32830
SUMMARY:Break
CLASS:PUBLIC
X-ALT-DESC;FMTTYPE=text/html:Event: Break\n\n Location: 1700 Epcot Resorts 
 Blvd Lake Buena Vista FL 32830\n\n
DTSTAMP:20221225T042950Z
END:VEVENT
END:VCALENDAR