BEGIN:VCALENDAR
VERSION:2.0
PRODID:https://fedsoc.org/events/lunch-and-keynote-address
BEGIN:VEVENT
UID:63a817b7ddb89
DTSTART:20200201T173000Z
SEQUENCE:0
TRANSP:OPAQUE
DTEND:20200201T193000Z
LOCATION:1700 Epcot Resorts Blvd Lake Buena Vista FL 32830
SUMMARY:Luncheon Panel: A Conversation About the Eleventh Circuit
CLASS:PUBLIC
X-ALT-DESC;FMTTYPE=text/html:Event: Luncheon Panel: A Conversation About th
 e Eleventh Circuit\n\n Location: 1700 Epcot Resorts Blvd Lake Buena Vista 
 FL 32830\n\n
DTSTAMP:20221225T042823Z
END:VEVENT
END:VCALENDAR