BEGIN:VCALENDAR
VERSION:2.0
PRODID:https://fedsoc.org/events/session-iii-the-law-and-policy-of-marijuan
 a-in-florida
BEGIN:VEVENT
UID:63a817bce6dfe
DTSTART:20200201T160000Z
SEQUENCE:0
TRANSP:OPAQUE
DTEND:20200201T171500Z
LOCATION:1700 Epcot Resorts Blvd Lake Buena Vista FL 32830
SUMMARY:Session III: The Law and Policy of Marijuana in Florida
CLASS:PUBLIC
X-ALT-DESC;FMTTYPE=text/html:Event: Session III: The Law and Policy of Mari
 juana in Florida\n\n Location: 1700 Epcot Resorts Blvd Lake Buena Vista FL
  32830\n\n
DTSTAMP:20221225T042828Z
END:VEVENT
END:VCALENDAR