BEGIN:VCALENDAR
VERSION:2.0
PRODID:https://fedsoc.org/events/address-by-irving-roth
BEGIN:VEVENT
UID:63a8177993efc
DTSTART:20200201T151500Z
SEQUENCE:0
TRANSP:OPAQUE
DTEND:20200201T154500Z
LOCATION:1700 Epcot Resorts Blvd Lake Buena Vista FL 32830
SUMMARY:Address by Irving Roth
CLASS:PUBLIC
X-ALT-DESC;FMTTYPE=text/html:Event: Address by Irving Roth\n\n Location: 17
 00 Epcot Resorts Blvd Lake Buena Vista FL 32830\n\n
DTSTAMP:20221225T042721Z
END:VEVENT
END:VCALENDAR