BEGIN:VCALENDAR
VERSION:2.0
PRODID:https://fedsoc.org/events/session-ii-originalism-and-textualism-in-p
 ractice
BEGIN:VEVENT
UID:63a8179cbf64b
DTSTART:20200201T134500Z
SEQUENCE:0
TRANSP:OPAQUE
DTEND:20200201T151500Z
LOCATION:1700 Epcot Resorts Blvd Lake Buena Vista FL 32830
SUMMARY:Session II: Originalism and Textualism in Practice
CLASS:PUBLIC
X-ALT-DESC;FMTTYPE=text/html:Event: Session II: Originalism and Textualism 
 in Practice\n\n Location: 1700 Epcot Resorts Blvd Lake Buena Vista FL 3283
 0\n\n
DTSTAMP:20221225T042756Z
END:VEVENT
END:VCALENDAR