BEGIN:VCALENDAR
VERSION:2.0
PRODID:https://fedsoc.org/events/breakfast-registration-1
BEGIN:VEVENT
UID:63a8172e309cf
DTSTART:20200201T130000Z
SEQUENCE:0
TRANSP:OPAQUE
DTEND:20200201T134500Z
LOCATION:1700 Epcot Resorts Blvd Lake Buena Vista FL 32830
SUMMARY:Breakfast & Registration
CLASS:PUBLIC
X-ALT-DESC;FMTTYPE=text/html:Event: Breakfast & Registration\n\n Location: 
 1700 Epcot Resorts Blvd Lake Buena Vista FL 32830\n\n
DTSTAMP:20221225T042606Z
END:VEVENT
END:VCALENDAR