BEGIN:VCALENDAR
VERSION:2.0
PRODID:https://fedsoc.org/events/banquet-and-discussion-with-justice-claren
 ce-thomas
BEGIN:VEVENT
UID:63a816c9a25f7
DTSTART:20200131T234500Z
SEQUENCE:0
TRANSP:OPAQUE
DTEND:20200201T031500Z
LOCATION:1700 Epcot Resorts Blvd Lake Buena Vista FL 32830
SUMMARY:Banquet and Discussion with Justice Clarence Thomas
CLASS:PUBLIC
X-ALT-DESC;FMTTYPE=text/html:Event: Banquet and Discussion with Justice Cla
 rence Thomas\n\n Location: 1700 Epcot Resorts Blvd Lake Buena Vista FL 328
 30\n\n
DTSTAMP:20221225T042425Z
END:VEVENT
END:VCALENDAR