BEGIN:VCALENDAR
VERSION:2.0
PRODID:https://fedsoc.org/events/cocktail-reception-5
BEGIN:VEVENT
UID:63a8175ec7817
DTSTART:20200131T224500Z
SEQUENCE:0
TRANSP:OPAQUE
DTEND:20200131T234500Z
LOCATION:1700 Epcot Resorts Blvd Lake Buena Vista FL 32830
SUMMARY:Cocktail Reception
CLASS:PUBLIC
X-ALT-DESC;FMTTYPE=text/html:Event: Cocktail Reception\n\n Location: 1700 E
 pcot Resorts Blvd Lake Buena Vista FL 32830\n\n
DTSTAMP:20221225T042654Z
END:VEVENT
END:VCALENDAR