BEGIN:VCALENDAR
VERSION:2.0
PRODID:https://fedsoc.org/events/session-i-revisiting-the-antifederalists
BEGIN:VEVENT
UID:63a816dfd0cb4
DTSTART:20200131T211500Z
SEQUENCE:0
TRANSP:OPAQUE
DTEND:20200131T223000Z
LOCATION:1700 Epcot Resorts Blvd Lake Buena Vista FL 32830
SUMMARY:Session I: Revisiting the Antifederalists
CLASS:PUBLIC
X-ALT-DESC;FMTTYPE=text/html:Event: Session I: Revisiting the Antifederalis
 ts\n\n Location: 1700 Epcot Resorts Blvd Lake Buena Vista FL 32830\n\n
DTSTAMP:20221225T042447Z
END:VEVENT
END:VCALENDAR