BEGIN:VCALENDAR
VERSION:2.0
PRODID:https://fedsoc.org/events/welcoming-and-opening-remarks
BEGIN:VEVENT
UID:63a81814257ea
DTSTART:20200131T201500Z
SEQUENCE:0
TRANSP:OPAQUE
DTEND:20200131T203000Z
LOCATION:1700 Epcot Resorts Blvd Lake Buena Vista FL 32830
SUMMARY:Welcome and Opening Remarks
CLASS:PUBLIC
X-ALT-DESC;FMTTYPE=text/html:Event: Welcome and Opening Remarks\n\n Locatio
 n: 1700 Epcot Resorts Blvd Lake Buena Vista FL 32830\n\n
DTSTAMP:20221225T042956Z
END:VEVENT
END:VCALENDAR