BEGIN:VCALENDAR
VERSION:2.0
PRODID:https://fedsoc.org/events/registration-8
BEGIN:VEVENT
UID:63a8184da5c62
DTSTART:20200131T193000Z
SEQUENCE:0
TRANSP:OPAQUE
DTEND:20200131T201500Z
LOCATION:1700 Epcot Resorts Blvd Lake Buena Vista FL 32830
SUMMARY:Registration
CLASS:PUBLIC
X-ALT-DESC;FMTTYPE=text/html:Event: Registration\n\n Location: 1700 Epcot R
 esorts Blvd Lake Buena Vista FL 32830\n\n
DTSTAMP:20221225T043053Z
END:VEVENT
END:VCALENDAR