BEGIN:VCALENDAR
VERSION:2.0
PRODID:https://fedsoc.org/events/2020-annual-western-chapters-conference
BEGIN:VEVENT
UID:63a8168e8eaa3
DTSTART:20200125T163000Z
SEQUENCE:0
TRANSP:OPAQUE
DTEND:20200126T013500Z
LOCATION:40 Presidential Dr Simi Valley CA 93065
SUMMARY:2020 Annual Western Chapters Conference
CLASS:PUBLIC
X-ALT-DESC;FMTTYPE=text/html:Event: 2020 Annual Western Chapters Conference
 \n\n Location: 40 Presidential Dr Simi Valley CA 93065\n\n
DTSTAMP:20221225T042326Z
END:VEVENT
END:VCALENDAR