BEGIN:VCALENDAR
VERSION:2.0
PRODID:https://fedsoc.org/events/2020-annual-florida-chapters-conference
BEGIN:VEVENT
UID:63a816fe687b7
DTSTART:20200131T193000Z
SEQUENCE:0
TRANSP:OPAQUE
DTEND:20200202T023500Z
LOCATION:1700 Epcot Resorts Blvd Lake Buena Vista FL 32830
SUMMARY:2020 Annual Florida Chapters Conference
CLASS:PUBLIC
X-ALT-DESC;FMTTYPE=text/html:Event: 2020 Annual Florida Chapters Conference
 \n\n Location: 1700 Epcot Resorts Blvd Lake Buena Vista FL 32830\n\n
DTSTAMP:20221225T042518Z
END:VEVENT
END:VCALENDAR