BEGIN:VCALENDAR
VERSION:2.0
PRODID:https://fedsoc.org/events/citizenship-us-census-and-the-road-ahead
BEGIN:VEVENT
UID:63a9902cc9e5b
DTSTART:20190729T160000Z
SEQUENCE:0
TRANSP:OPAQUE
DTEND:20190729T180000Z
LOCATION:1127 Connecticut Ave NW Washington DC 20036
SUMMARY:Citizenship: The Road Ahead
CLASS:PUBLIC
X-ALT-DESC;FMTTYPE=text/html:Event: Citizenship: The Road Ahead\n\n Locatio
 n: 1127 Connecticut Ave NW Washington DC 20036\n\n
DTSTAMP:20221226T071436Z
END:VEVENT
END:VCALENDAR