BEGIN:VCALENDAR
VERSION:2.0
PRODID:https://fedsoc.org/events/agency-rulemaking-unnecessary-delegation-o
 r-indispensable-assistance
BEGIN:VEVENT
UID:63a7b4c8a2a6f
DTSTART:20190618T160000Z
SEQUENCE:0
TRANSP:OPAQUE
DTEND:20190618T173000Z
LOCATION:529 14th St NW Washington DC 20045
SUMMARY:Agency Rulemaking: Unnecessary Delegation or Indispensable Assistan
 ce?
CLASS:PUBLIC
X-ALT-DESC;FMTTYPE=text/html:Event: Agency Rulemaking: Unnecessary Delegati
 on or Indispensable Assistance?\n\n Location: 529 14th St NW Washington DC
  20045\n\n
DTSTAMP:20221224T212616Z
END:VEVENT
END:VCALENDAR