BEGIN:VCALENDAR
VERSION:2.0
PRODID:https://fedsoc.org/events/third-party-litigation-financing-a-distort
 ing-or-reinforcing-practice
BEGIN:VEVENT
UID:63a7ce032eb7e
DTSTART:20190611T160000Z
SEQUENCE:0
TRANSP:OPAQUE
DTEND:20190611T180000Z
LOCATION:529 14th St NW Washington DC 20003
SUMMARY:Third Party Litigation Financing: A Distorting or Reinforcing Pract
 ice?
CLASS:PUBLIC
X-ALT-DESC;FMTTYPE=text/html:Event: Third Party Litigation Financing: A Dis
 torting or Reinforcing Practice?\n\n Location: 529 14th St NW Washington D
 C 20003\n\n
DTSTAMP:20221224T231355Z
END:VEVENT
END:VCALENDAR