BEGIN:VCALENDAR
VERSION:2.0
PRODID:https://fedsoc.org/events/all-the-president-s-budgets
BEGIN:VEVENT
UID:63a83a67b2d88
DTSTART:20190530T160000Z
SEQUENCE:0
TRANSP:OPAQUE
DTEND:20190530T170000Z
LOCATION:50 Constitution Ave NE Washington DC 20002
SUMMARY:All the President's Budgets: Who should be setting federal budget p
 riorities?
CLASS:PUBLIC
X-ALT-DESC;FMTTYPE=text/html:Event: All the President's Budgets: Who should
  be setting federal budget priorities?\n\n Location: 50 Constitution Ave N
 E Washington DC 20002\n\n
DTSTAMP:20221225T065623Z
END:VEVENT
END:VCALENDAR