BEGIN:VCALENDAR
VERSION:2.0
PRODID:https://fedsoc.org/events/address-2
BEGIN:VEVENT
UID:63a7ccb75b890
DTSTART:20190508T142057Z
SEQUENCE:0
TRANSP:OPAQUE
DTEND:20190508T144557Z
LOCATION:1127 Connecticut Avenue\, NW Washington DC 200036
SUMMARY:Address by Mick Mulvaney
CLASS:PUBLIC
X-ALT-DESC;FMTTYPE=text/html:Event: Address by Mick Mulvaney\n\n Location: 
 1127 Connecticut Avenue\, NW Washington DC 200036\n\n
DTSTAMP:20221224T230823Z
END:VEVENT
END:VCALENDAR