BEGIN:VCALENDAR
VERSION:2.0
PRODID:https://fedsoc.org/events/closing-reception-8
BEGIN:VEVENT
UID:63a7cd98180bf
DTSTART:20190508T203043Z
SEQUENCE:0
TRANSP:OPAQUE
DTEND:20190508T220043Z
LOCATION:1127 Connecticut Avenue\, NW Washington DC 20036
SUMMARY:Closing Reception
CLASS:PUBLIC
X-ALT-DESC;FMTTYPE=text/html:Event: Closing Reception\n\n Location: 1127 Co
 nnecticut Avenue\, NW Washington DC 20036\n\n
DTSTAMP:20221224T231208Z
END:VEVENT
END:VCALENDAR