BEGIN:VCALENDAR
VERSION:2.0
PRODID:https://fedsoc.org/events/closing-address-1
BEGIN:VEVENT
UID:63a7cdcaa1e2c
DTSTART:20190508T200037Z
SEQUENCE:0
TRANSP:OPAQUE
DTEND:20190508T203037Z
LOCATION:1127 Connecticut Avenue\, NW Washington DC 20036
SUMMARY:Keynote Address by Vice President Michael R. Pence
CLASS:PUBLIC
X-ALT-DESC;FMTTYPE=text/html:Event: Keynote Address by Vice President Micha
 el R. Pence\n\n Location: 1127 Connecticut Avenue\, NW Washington DC 20036
 \n\n
DTSTAMP:20221224T231258Z
END:VEVENT
END:VCALENDAR