BEGIN:VCALENDAR
VERSION:2.0
PRODID:https://fedsoc.org/events/revisiting-judicial-deference
BEGIN:VEVENT
UID:63a7cd55bb47a
DTSTART:20190508T161500Z
SEQUENCE:0
TRANSP:OPAQUE
DTEND:20190508T174500Z
LOCATION:1127 Connecticut Avenue\, NW Washington DC 20036
SUMMARY:Revisiting Judicial Deference
CLASS:PUBLIC
X-ALT-DESC;FMTTYPE=text/html:Event: Revisiting Judicial Deference\n\n Locat
 ion: 1127 Connecticut Avenue\, NW Washington DC 20036\n\n
DTSTAMP:20221224T231101Z
END:VEVENT
END:VCALENDAR