BEGIN:VCALENDAR
VERSION:2.0
PRODID:https://fedsoc.org/events/new-and-improved-the-wotus-rule
BEGIN:VEVENT
UID:63a7cdeabfbbc
DTSTART:20190508T180000Z
SEQUENCE:0
TRANSP:OPAQUE
DTEND:20190508T191500Z
LOCATION:1127 Connecticut Avenue\, NW Washington DC 20036
SUMMARY:The Trump Administration’s Proposed Redefinition of “Navigable 
 Waters” – Too Much\, Too Little\, or Just Right?
CLASS:PUBLIC
X-ALT-DESC;FMTTYPE=text/html:Event: The Trump Administration’s Proposed R
 edefinition of “Navigable Waters” – Too Much\, Too Little\, or Just 
 Right?\n\n Location: 1127 Connecticut Avenue\, NW Washington DC 20036\n\n
DTSTAMP:20221224T231330Z
END:VEVENT
END:VCALENDAR