BEGIN:VCALENDAR
VERSION:2.0
PRODID:https://fedsoc.org/events/alphabet-soup-eeoc-v-ocr-v-dol-ofccp
BEGIN:VEVENT
UID:63a7ccbc5a001
DTSTART:20190508T180000Z
SEQUENCE:0
TRANSP:OPAQUE
DTEND:20190508T191500Z
LOCATION:1127 Connecticut Avenue\, NW Washington DC 20036
SUMMARY:Alphabet Soup: EEOC v. OCR v. DOL OFCCP
CLASS:PUBLIC
X-ALT-DESC;FMTTYPE=text/html:Event: Alphabet Soup: EEOC v. OCR v. DOL OFCCP
 \n\n Location: 1127 Connecticut Avenue\, NW Washington DC 20036\n\n
DTSTAMP:20221224T230828Z
END:VEVENT
END:VCALENDAR