BEGIN:VCALENDAR
VERSION:2.0
PRODID:https://fedsoc.org/events/division-of-labor-doj-antitrust-the-ftc-th
 e-fcc-uspto
BEGIN:VEVENT
UID:63a7cdf8e7c97
DTSTART:20190508T150000Z
SEQUENCE:0
TRANSP:OPAQUE
DTEND:20190508T161500Z
LOCATION:1127 Connecticut Avenue\, NW Washington DC 20036
SUMMARY:Division of Authority: DOJ Antitrust\; the FTC\; the FCC\; USPTO
CLASS:PUBLIC
X-ALT-DESC;FMTTYPE=text/html:Event: Division of Authority: DOJ Antitrust\; 
 the FTC\; the FCC\; USPTO\n\n Location: 1127 Connecticut Avenue\, NW Washi
 ngton DC 20036\n\n
DTSTAMP:20221224T231344Z
END:VEVENT
END:VCALENDAR