BEGIN:VCALENDAR
VERSION:2.0
PRODID:https://fedsoc.org/events/corporate-responsibility-maximizing-shareh
 older-benefit-v-social-justice
BEGIN:VEVENT
UID:63a7cd37954ae
DTSTART:20190508T150000Z
SEQUENCE:0
TRANSP:OPAQUE
DTEND:20190508T161500Z
LOCATION:1127 Connecticut Avenue\, NW Washington DC 20036
SUMMARY:Corporate Responsibility: Maximizing Shareholder Benefit v. Social 
 Justice
CLASS:PUBLIC
X-ALT-DESC;FMTTYPE=text/html:Event: Corporate Responsibility: Maximizing Sh
 areholder Benefit v. Social Justice\n\n Location: 1127 Connecticut Avenue\
 , NW Washington DC 20036\n\n
DTSTAMP:20221224T231031Z
END:VEVENT
END:VCALENDAR