BEGIN:VCALENDAR
VERSION:2.0
PRODID:https://fedsoc.org/events/how-the-federal-government-litigates-cases
BEGIN:VEVENT
UID:63a7cd07da5a2
DTSTART:20190508T150000Z
SEQUENCE:0
TRANSP:OPAQUE
DTEND:20190508T161500Z
LOCATION:1127 Connecticut Avenue\, NW Washington DC 20036
SUMMARY:How the Federal Government Litigates Cases
CLASS:PUBLIC
X-ALT-DESC;FMTTYPE=text/html:Event: How the Federal Government Litigates Ca
 ses\n\n Location: 1127 Connecticut Avenue\, NW Washington DC 20036\n\n
DTSTAMP:20221224T230943Z
END:VEVENT
END:VCALENDAR