BEGIN:VCALENDAR
VERSION:2.0
PRODID:https://fedsoc.org/events/plenary-roundtable
BEGIN:VEVENT
UID:63a7cdcfd75f0
DTSTART:20190508T130000Z
SEQUENCE:0
TRANSP:OPAQUE
DTEND:20190508T141500Z
LOCATION:1127 Connecticut Avenue\, NW Washington DC 20036
SUMMARY:Plenary Roundtable: Regulatory Reform Report Card: Agency General C
 ounsel Perspective
CLASS:PUBLIC
X-ALT-DESC;FMTTYPE=text/html:Event: Plenary Roundtable: Regulatory Reform R
 eport Card: Agency General Counsel Perspective\n\n Location: 1127 Connecti
 cut Avenue\, NW Washington DC 20036\n\n
DTSTAMP:20221224T231303Z
END:VEVENT
END:VCALENDAR